BEGIN:VCALENDAR
VERSION:2.0
PRODID:-//SEA TO SKY DENTAL SEMINARS - ECPv6.15.20//NONSGML v1.0//EN
CALSCALE:GREGORIAN
METHOD:PUBLISH
X-WR-CALNAME:SEA TO SKY DENTAL SEMINARS
X-ORIGINAL-URL:https://www.seatoskyds.com
X-WR-CALDESC:Events for SEA TO SKY DENTAL SEMINARS
REFRESH-INTERVAL;VALUE=DURATION:PT1H
X-Robots-Tag:noindex
X-PUBLISHED-TTL:PT1H
BEGIN:VTIMEZONE
TZID:America/Vancouver
BEGIN:DAYLIGHT
TZOFFSETFROM:-0800
TZOFFSETTO:-0700
TZNAME:PDT
DTSTART:20240310T100000
END:DAYLIGHT
BEGIN:STANDARD
TZOFFSETFROM:-0700
TZOFFSETTO:-0800
TZNAME:PST
DTSTART:20241103T090000
END:STANDARD
BEGIN:DAYLIGHT
TZOFFSETFROM:-0800
TZOFFSETTO:-0700
TZNAME:PDT
DTSTART:20250309T100000
END:DAYLIGHT
BEGIN:STANDARD
TZOFFSETFROM:-0700
TZOFFSETTO:-0800
TZNAME:PST
DTSTART:20251102T090000
END:STANDARD
BEGIN:DAYLIGHT
TZOFFSETFROM:-0800
TZOFFSETTO:-0700
TZNAME:PDT
DTSTART:20260308T100000
END:DAYLIGHT
BEGIN:STANDARD
TZOFFSETFROM:-0700
TZOFFSETTO:-0800
TZNAME:PST
DTSTART:20261101T090000
END:STANDARD
END:VTIMEZONE
BEGIN:VEVENT
DTSTART;TZID=America/Vancouver:20250925T180000
DTEND;TZID=America/Vancouver:20250925T210000
DTSTAMP:20260420T101846
CREATED:20250731T175732Z
LAST-MODIFIED:20250821T005917Z
UID:1426-1758823200-1758834000@www.seatoskyds.com
SUMMARY:DR. JIM ARMSTRONG - Practice Management\,  DR. TORIN BARR - Ridge Augmentation\, PENNY HATZIMANOLAKIS - Latest Innovations in Perio Management
DESCRIPTION:DR. JIM ARMSTRONG \n\n\n\nBuilding Resiliency Into Your Dental Practice Operations – Getting Ready For A Recession. \n\n\n\n \n\n\n\n\n\nDR. TORIN BARR \n\n\n\nAdvanced Alveolar Ridge Reconstruction. \n\n\n\nCase selection\, grafting materials\, and surgical workflows to support implant site development. \n\n\n\n\n\nPENNY HATZIMANOLAKIS  \n\n\n\nSeeing Beneath The Surface – Elevating Periodontal Therapy With The PerioView Endoscope.   \n\n\n\nThe integration of PerioView Endoscopy in non-surgical periodontal therapy will be examined\, with a focus on its diagnostic precision and real-time visualization of subgingival biofilm and calculus. \n\n\n\n\nThis comprehensive session brings together three vital aspects of contemporary dental care: practice sustainability\, Surgical proficiency and minimally invasive diagnostics. Attendees will explore strategic approaches to building financial and operational resilience in anticipation of economic downturns\, with a focus on optimizing business systems and long-term viability. \n\n\n\nThe session will then review current techniques and evidence for advanced materials and surgical workflows to support implant site development. \n\n\n\nLastly the integration of Perioview Endescopy in non-surgical periodontal therapy will be examined\, with a focus on it’s diagnostic precision and real-time visualization of subgingival biofilm and calculus.
URL:https://www.seatoskyds.com/eventsone/1426/
LOCATION:Holiday Inn North Vancouver\, 700 Old Lillooet Rd\, North Vancouver\, British Columbia\, V7J 2H5\, Canada
ATTACH;FMTTYPE=image/jpeg:https://www.seatoskyds.com/wp-content/uploads/2025/07/dentalseminar1-1.jpg
END:VEVENT
END:VCALENDAR